BEGIN:VCALENDAR
VERSION:2.0
PRODID:-//Fons Pitiús de Cooperació - ECPv6.15.20//NONSGML v1.0//EN
CALSCALE:GREGORIAN
METHOD:PUBLISH
X-WR-CALNAME:Fons Pitiús de Cooperació
X-ORIGINAL-URL:https://fonspitius.org
X-WR-CALDESC:Esdeveniments per Fons Pitiús de Cooperació
REFRESH-INTERVAL;VALUE=DURATION:PT1H
X-Robots-Tag:noindex
X-PUBLISHED-TTL:PT1H
BEGIN:VTIMEZONE
TZID:Europe/Madrid
BEGIN:DAYLIGHT
TZOFFSETFROM:+0100
TZOFFSETTO:+0200
TZNAME:CEST
DTSTART:20250330T010000
END:DAYLIGHT
BEGIN:STANDARD
TZOFFSETFROM:+0200
TZOFFSETTO:+0100
TZNAME:CET
DTSTART:20251026T010000
END:STANDARD
BEGIN:DAYLIGHT
TZOFFSETFROM:+0100
TZOFFSETTO:+0200
TZNAME:CEST
DTSTART:20260329T010000
END:DAYLIGHT
BEGIN:STANDARD
TZOFFSETFROM:+0200
TZOFFSETTO:+0100
TZNAME:CET
DTSTART:20261025T010000
END:STANDARD
BEGIN:DAYLIGHT
TZOFFSETFROM:+0100
TZOFFSETTO:+0200
TZNAME:CEST
DTSTART:20270328T010000
END:DAYLIGHT
BEGIN:STANDARD
TZOFFSETFROM:+0200
TZOFFSETTO:+0100
TZNAME:CET
DTSTART:20271031T010000
END:STANDARD
END:VTIMEZONE
BEGIN:VEVENT
DTSTART;VALUE=DATE:20260415
DTEND;VALUE=DATE:20260516
DTSTAMP:20260424T035752
CREATED:20260204T090012Z
LAST-MODIFIED:20260416T075541Z
UID:17512-1776211200-1778889599@fonspitius.org
SUMMARY:La 15a edició de la biblioteca viatgera "Informa't a Fons"\, a Figueretes
DESCRIPTION:La biblioteca viatgera “Informa’t a fons” arriba a la seva 15a edició i ho fa amb un nou recull de títols de la biblioteca del Fons. Enguany reuneix 27 títols per a persones adultes i joves a partir de 15 anys i 12 llibres adreçats al públic infantil i juvenil. Hi trobareu fonamentalment contes i assajos\, però enguany també hem inclòs  narrativa i poesia. \nDesprés d’estar a Sant Antoni\, es trasllada al municipi d’Eivissa i estarà a la Biblioteca de Figueretes fins el 15 de maig. \nPodeu trobar tot el calendari del 2026\, totes les temàtiques tractades i la nova guia de lectura\, fent clic aquí.
URL:https://fonspitius.org/event/la-nova-edicio-de-la-biblioteca-viatgera-informat-a-fons-a-santa-eularia/
CATEGORIES:Agenda
END:VEVENT
END:VCALENDAR